BEGIN:VCALENDAR
VERSION:2.0
PRODID:spatie/icalendar-generator
DESCRIPTION:Events from Albert Lawn Tennis Club
X-WR-CALDESC:Events from Albert Lawn Tennis Club
REFRESH-INTERVAL;VALUE=DURATION:PT1440M
X-PUBLISHED-TTL:PT1440M
BEGIN:VTIMEZONE
TZID:Etc/GMT+0
BEGIN:STANDARD
DTSTART:20240528T190000Z
TZOFFSETFROM:+0000
TZOFFSETTO:+0000
END:STANDARD
END:VTIMEZONE
BEGIN:VTIMEZONE
TZID:UTC
BEGIN:STANDARD
DTSTART:20250724T195313Z
TZOFFSETFROM:+0000
TZOFFSETTO:+0000
END:STANDARD
END:VTIMEZONE
BEGIN:VEVENT
UID:534-79
DTSTAMP:20260420T195313Z
SUMMARY:Private function - Birthday Party
LOCATION:
ORGANIZER;CN=Ext Ext:MAILTO:t@b.com
DTSTART;TZID=Etc/GMT+0:20250222T190000
DTEND;TZID=Etc/GMT+0:20250222T233000
X-ALT-DESC;FMTTYPE=TEXT/HTML:
CATEGORIES:Outside Functions
URL;VALUE=URI:https://albertltc.co.uk/mc-events/private-function-birthday-p
 arty/?mc_id=534
METHOD:PUBLISH
END:VEVENT
END:VCALENDAR